BEGIN:VCALENDAR
VERSION:2.0
PRODID:-//Jim Darcy Elementary School - ECPv6.15.20//NONSGML v1.0//EN
CALSCALE:GREGORIAN
METHOD:PUBLISH
X-ORIGINAL-URL:https://jimdarcy.helenaschools.org
X-WR-CALDESC:Events for Jim Darcy Elementary School
REFRESH-INTERVAL;VALUE=DURATION:PT1H
X-Robots-Tag:noindex
X-PUBLISHED-TTL:PT1H
BEGIN:VTIMEZONE
TZID:America/Denver
BEGIN:DAYLIGHT
TZOFFSETFROM:-0700
TZOFFSETTO:-0600
TZNAME:MDT
DTSTART:20210314T090000
END:DAYLIGHT
BEGIN:STANDARD
TZOFFSETFROM:-0600
TZOFFSETTO:-0700
TZNAME:MST
DTSTART:20211107T080000
END:STANDARD
BEGIN:DAYLIGHT
TZOFFSETFROM:-0700
TZOFFSETTO:-0600
TZNAME:MDT
DTSTART:20220313T090000
END:DAYLIGHT
BEGIN:STANDARD
TZOFFSETFROM:-0600
TZOFFSETTO:-0700
TZNAME:MST
DTSTART:20221106T080000
END:STANDARD
BEGIN:DAYLIGHT
TZOFFSETFROM:-0700
TZOFFSETTO:-0600
TZNAME:MDT
DTSTART:20230312T090000
END:DAYLIGHT
BEGIN:STANDARD
TZOFFSETFROM:-0600
TZOFFSETTO:-0700
TZNAME:MST
DTSTART:20231105T080000
END:STANDARD
END:VTIMEZONE
BEGIN:VEVENT
DTSTART;TZID=America/Denver:20220322T110000
DTEND;TZID=America/Denver:20220322T120000
DTSTAMP:20260423T222015
CREATED:20220216T222104Z
LAST-MODIFIED:20220322T134746Z
UID:22573-1647946800-1647950400@jimdarcy.helenaschools.org
SUMMARY:Executive Committee Meeting 03.22.22
DESCRIPTION:
URL:https://jimdarcy.helenaschools.org/event/executive-committee-meeting-03-22-22/
LOCATION:Lincoln Center\, 1325 Poplar St\, Helena\, MT\, 59601\, United States
CATEGORIES:Board of Trustees Meeting,District Schedule,Executive Session
ORGANIZER;CN="Board of Trustees":MAILTO:boardoftrustees@helenaschools.org
END:VEVENT
BEGIN:VEVENT
DTSTART;TZID=America/Denver:20220322T153000
DTEND;TZID=America/Denver:20220322T180000
DTSTAMP:20260423T222015
CREATED:20220216T222104Z
LAST-MODIFIED:20220322T134746Z
UID:22575-1647963000-1647972000@jimdarcy.helenaschools.org
SUMMARY:Board Work Session-Hawthorne Elementary 03.22.22
DESCRIPTION:
URL:https://jimdarcy.helenaschools.org/event/board-work-session-hawthorne-elementary-03-22-22/
LOCATION:Hawthorne Elementary\, 430 Madison Ave\, Helena\, MT\, 59601\, United States
CATEGORIES:Board of Trustees Meeting,District Schedule,Work Session
ORGANIZER;CN="Board of Trustees":MAILTO:boardoftrustees@helenaschools.org
END:VEVENT
BEGIN:VEVENT
DTSTART;TZID=America/Denver:20220323T160000
DTEND;TZID=America/Denver:20220323T173000
DTSTAMP:20260423T222015
CREATED:20220224T001419Z
LAST-MODIFIED:20220323T135445Z
UID:22584-1648051200-1648056600@jimdarcy.helenaschools.org
SUMMARY:HEA/HPS NEGOTIATION COMMITTEE MEETING 03.23.22
DESCRIPTION:
URL:https://jimdarcy.helenaschools.org/event/hea-hps-negotiation-committee-meeting-03-23-22/
LOCATION:Lincoln Center\, 1325 Poplar St\, Helena\, MT\, 59601\, United States
CATEGORIES:District Schedule,Negotiations Meeting
END:VEVENT
END:VCALENDAR