BEGIN:VCALENDAR
VERSION:2.0
PRODID:-//Jim Darcy Elementary School - ECPv6.15.20//NONSGML v1.0//EN
CALSCALE:GREGORIAN
METHOD:PUBLISH
X-ORIGINAL-URL:https://jimdarcy.helenaschools.org
X-WR-CALDESC:Events for Jim Darcy Elementary School
REFRESH-INTERVAL;VALUE=DURATION:PT1H
X-Robots-Tag:noindex
X-PUBLISHED-TTL:PT1H
BEGIN:VTIMEZONE
TZID:America/Denver
BEGIN:DAYLIGHT
TZOFFSETFROM:-0700
TZOFFSETTO:-0600
TZNAME:MDT
DTSTART:20200308T090000
END:DAYLIGHT
BEGIN:STANDARD
TZOFFSETFROM:-0600
TZOFFSETTO:-0700
TZNAME:MST
DTSTART:20201101T080000
END:STANDARD
BEGIN:DAYLIGHT
TZOFFSETFROM:-0700
TZOFFSETTO:-0600
TZNAME:MDT
DTSTART:20210314T090000
END:DAYLIGHT
BEGIN:STANDARD
TZOFFSETFROM:-0600
TZOFFSETTO:-0700
TZNAME:MST
DTSTART:20211107T080000
END:STANDARD
BEGIN:DAYLIGHT
TZOFFSETFROM:-0700
TZOFFSETTO:-0600
TZNAME:MDT
DTSTART:20220313T090000
END:DAYLIGHT
BEGIN:STANDARD
TZOFFSETFROM:-0600
TZOFFSETTO:-0700
TZNAME:MST
DTSTART:20221106T080000
END:STANDARD
BEGIN:DAYLIGHT
TZOFFSETFROM:-0700
TZOFFSETTO:-0600
TZNAME:MDT
DTSTART:20230312T090000
END:DAYLIGHT
BEGIN:STANDARD
TZOFFSETFROM:-0600
TZOFFSETTO:-0700
TZNAME:MST
DTSTART:20231105T080000
END:STANDARD
END:VTIMEZONE
BEGIN:VEVENT
DTSTART;TZID=America/Denver:20211201T120000
DTEND;TZID=America/Denver:20211201T130000
DTSTAMP:20260421T225840
CREATED:20211105T013452Z
LAST-MODIFIED:20211130T234905Z
UID:22403-1638360000-1638363600@jimdarcy.helenaschools.org
SUMMARY:Teaching & Learning Committee 12.01.21
DESCRIPTION:Microsoft Teams meeting \n\n\n\nJoin on your computer or mobile app  \n\nClick here to join the meeting
URL:https://jimdarcy.helenaschools.org/event/teaching-learning-committee-12-01-21/
LOCATION:MT
CATEGORIES:Board of Trustees Meeting,Teaching and Learning Committee
ORGANIZER;CN="Board of Trustees":MAILTO:boardoftrustees@helenaschools.org
END:VEVENT
BEGIN:VEVENT
DTSTART;TZID=America/Denver:20211202T120000
DTEND;TZID=America/Denver:20211202T133000
DTSTAMP:20260421T225840
CREATED:20211123T210620Z
LAST-MODIFIED:20211202T000648Z
UID:22427-1638446400-1638451800@jimdarcy.helenaschools.org
SUMMARY:Board of Trustees-Special Meeting 12.02.21
DESCRIPTION:
URL:https://jimdarcy.helenaschools.org/event/facilities-facilitated-work-session-meeting/
LOCATION:1325 Poplar St.\, Helena\, MT\, 59601\, United States
CATEGORIES:Board of Trustees Meeting,Special Meeting,Work Session
ORGANIZER;CN="Board of Trustees":MAILTO:boardoftrustees@helenaschools.org
END:VEVENT
BEGIN:VEVENT
DTSTART;TZID=America/Denver:20211203T120000
DTEND;TZID=America/Denver:20211203T130000
DTSTAMP:20260421T225840
CREATED:20211105T013453Z
LAST-MODIFIED:20211129T234725Z
UID:22404-1638532800-1638536400@jimdarcy.helenaschools.org
SUMMARY:Budget & Finance Committee Meeting 12.03.21
DESCRIPTION:Microsoft Teams meeting \n\n\n\nJoin on your computer or mobile app  \n\nClick here to join the meeting
URL:https://jimdarcy.helenaschools.org/event/budget-finance-committee-meeting-12-03-21/
LOCATION:MT
CATEGORIES:Board of Trustees Meeting,Budget and Finance Committee
ORGANIZER;CN="Board of Trustees":MAILTO:boardoftrustees@helenaschools.org
END:VEVENT
BEGIN:VEVENT
DTSTART;TZID=America/Denver:20211207T120000
DTEND;TZID=America/Denver:20211207T130000
DTSTAMP:20260421T225840
CREATED:20211105T013453Z
LAST-MODIFIED:20211207T010923Z
UID:22406-1638878400-1638882000@jimdarcy.helenaschools.org
SUMMARY:Policy Committee Meeting 12.07.21
DESCRIPTION:Microsoft Teams meeting \n\n\n\nJoin on your computer or mobile app  \n\nClick here to join the meeting
URL:https://jimdarcy.helenaschools.org/event/policy-committee-meeting-12-07-21/
LOCATION:MT
CATEGORIES:Board of Trustees Meeting,Policy Committee
ORGANIZER;CN="Board of Trustees":MAILTO:boardoftrustees@helenaschools.org
END:VEVENT
BEGIN:VEVENT
DTSTART;TZID=America/Denver:20211213T120000
DTEND;TZID=America/Denver:20211213T130000
DTSTAMP:20260421T225840
CREATED:20211105T013453Z
LAST-MODIFIED:20211213T034504Z
UID:22405-1639396800-1639400400@jimdarcy.helenaschools.org
SUMMARY:Facilities & Maintenance Committee Meeting 12.13.21
DESCRIPTION:Microsoft Teams meeting \n\n\n\nJoin on your computer or mobile app  \n\nClick here to join the meeting
URL:https://jimdarcy.helenaschools.org/event/facilities-maintenance-committee-meeting-12-06-21/
LOCATION:MT
CATEGORIES:Board of Trustees Meeting,Facilities and Maintenance Committee
ORGANIZER;CN="Board of Trustees":MAILTO:boardoftrustees@helenaschools.org
END:VEVENT
BEGIN:VEVENT
DTSTART;TZID=America/Denver:20211214T110000
DTEND;TZID=America/Denver:20211214T120000
DTSTAMP:20260421T225840
CREATED:20211105T013453Z
LAST-MODIFIED:20211214T035455Z
UID:22407-1639479600-1639483200@jimdarcy.helenaschools.org
SUMMARY:Executive Committee Meeting 12.14.21
DESCRIPTION:Microsoft Teams meeting \n\n\n\nJoin on your computer or mobile app  \n\nClick here to join the meeting
URL:https://jimdarcy.helenaschools.org/event/executive-committee-meeting-12-14-21/
LOCATION:Lincoln Center\, 1325 Poplar St\, Helena\, MT\, 59601\, United States
CATEGORIES:Board of Trustees Meeting,Executive Session
ORGANIZER;CN="Board of Trustees":MAILTO:boardoftrustees@helenaschools.org
END:VEVENT
BEGIN:VEVENT
DTSTART;TZID=America/Denver:20211214T154500
DTEND;TZID=America/Denver:20211214T173000
DTSTAMP:20260421T225840
CREATED:20211129T234723Z
LAST-MODIFIED:20211214T035456Z
UID:22435-1639496700-1639503000@jimdarcy.helenaschools.org
SUMMARY:Health Benefits Committee Meeting 12.14.21
DESCRIPTION:Microsoft Teams meeting \nJoin on your computer or mobile app \nClick here to join the meeting \nOr call in (audio only) \n+1 406-272-9506\,\,481423657#   United States\, Billings \n(866) 790-3305\,\,481423657#   United States (Toll-free) \nPhone Conference ID: 481 423 657# \nFind a local number | Reset PIN \nLearn More | Meeting options \n  \n 
URL:https://jimdarcy.helenaschools.org/event/health-benefits-committee-meeting-12-14-21/
LOCATION:MT
CATEGORIES:District Schedule,Health & Benefits Committee Meetings
END:VEVENT
BEGIN:VEVENT
DTSTART;TZID=America/Denver:20211214T173000
DTEND;TZID=America/Denver:20211214T203000
DTSTAMP:20260421T225840
CREATED:20211105T013452Z
LAST-MODIFIED:20211214T035456Z
UID:22402-1639503000-1639513800@jimdarcy.helenaschools.org
SUMMARY:Full Board Meeting 12.14.21
DESCRIPTION:Microsoft Teams meeting \n\n\n\nJoin on your computer or mobile app  \n\nClick here to join the meeting
URL:https://jimdarcy.helenaschools.org/event/full-board-meeting-12-14-21/
LOCATION:Lincoln Center\, 1325 Poplar St\, Helena\, MT\, 59601\, United States
CATEGORIES:Board of Trustees Meeting,Full Board Meeting
ORGANIZER;CN="Board of Trustees":MAILTO:boardoftrustees@helenaschools.org
END:VEVENT
BEGIN:VEVENT
DTSTART;VALUE=DATE:20211223
DTEND;VALUE=DATE:20220104
DTSTAMP:20260421T225840
CREATED:20211007T155457Z
LAST-MODIFIED:20211223T075209Z
UID:22359-1640217600-1641254399@jimdarcy.helenaschools.org
SUMMARY:Winter Break
DESCRIPTION:No School \nDistrict offices closed 12/24\, 12/27\, January 1
URL:https://jimdarcy.helenaschools.org/event/winter-break-2/
LOCATION:MT
CATEGORIES:District Closed,District Schedule,No School
END:VEVENT
END:VCALENDAR